BEGIN:VCALENDAR
VERSION:2.0
PRODID:-//Strathmore Boulevard church of Christ - ECPv6.15.17.1//NONSGML v1.0//EN
CALSCALE:GREGORIAN
METHOD:PUBLISH
X-WR-CALNAME:Strathmore Boulevard church of Christ
X-ORIGINAL-URL:https://strathmorecofc.ca
X-WR-CALDESC:Events for Strathmore Boulevard church of Christ
REFRESH-INTERVAL;VALUE=DURATION:PT1H
X-Robots-Tag:noindex
X-PUBLISHED-TTL:PT1H
BEGIN:VTIMEZONE
TZID:America/Toronto
BEGIN:DAYLIGHT
TZOFFSETFROM:-0500
TZOFFSETTO:-0400
TZNAME:EDT
DTSTART:20190310T070000
END:DAYLIGHT
BEGIN:STANDARD
TZOFFSETFROM:-0400
TZOFFSETTO:-0500
TZNAME:EST
DTSTART:20191103T060000
END:STANDARD
BEGIN:DAYLIGHT
TZOFFSETFROM:-0500
TZOFFSETTO:-0400
TZNAME:EDT
DTSTART:20200308T070000
END:DAYLIGHT
BEGIN:STANDARD
TZOFFSETFROM:-0400
TZOFFSETTO:-0500
TZNAME:EST
DTSTART:20201101T060000
END:STANDARD
BEGIN:DAYLIGHT
TZOFFSETFROM:-0500
TZOFFSETTO:-0400
TZNAME:EDT
DTSTART:20210314T070000
END:DAYLIGHT
BEGIN:STANDARD
TZOFFSETFROM:-0400
TZOFFSETTO:-0500
TZNAME:EST
DTSTART:20211107T060000
END:STANDARD
END:VTIMEZONE
BEGIN:VEVENT
DTSTART;TZID=America/Toronto:20200126T100000
DTEND;TZID=America/Toronto:20200126T123000
DTSTAMP:20260421T110620
CREATED:20200122T215252Z
LAST-MODIFIED:20200122T222219Z
UID:396-1580032800-1580041800@strathmorecofc.ca
SUMMARY:Worship Service
DESCRIPTION:PRESIDER: ……………. Edmund N\nPRAYER:…………….…… Edward B\nREADER:……….………… Adeniyi o\nCLOSING PRAYER:… Ricky M\nSONG LEADER:…..….. Zenas Gill M\nPassing emblems for Jan 19 & 26:\nOhorane S\, Josh R\, Matthew B\, Hayden J\, Ayokunle A
URL:https://strathmorecofc.ca/calendar/worship-service/
CATEGORIES:Worship Service
END:VEVENT
END:VCALENDAR